BEGIN:VCALENDAR
VERSION:2.0
PRODID:-//ACAFARMUR - ECPv6.0.10//NONSGML v1.0//EN
CALSCALE:GREGORIAN
METHOD:PUBLISH
X-WR-CALNAME:ACAFARMUR
X-ORIGINAL-URL:https://academiadefarmaciaregiondemurcia.com
X-WR-CALDESC:Eventos para ACAFARMUR
REFRESH-INTERVAL;VALUE=DURATION:PT1H
X-Robots-Tag:noindex
X-PUBLISHED-TTL:PT1H
BEGIN:VTIMEZONE
TZID:UTC
BEGIN:STANDARD
TZOFFSETFROM:+0000
TZOFFSETTO:+0000
TZNAME:UTC
DTSTART:20260101T000000
END:STANDARD
END:VTIMEZONE
BEGIN:VEVENT
DTSTART;TZID=UTC:20260415T080000
DTEND;TZID=UTC:20260422T170000
DTSTAMP:20260423T191357
CREATED:20260415T075936Z
LAST-MODIFIED:20260415T075936Z
UID:5243-1776240000-1776877200@academiadefarmaciaregiondemurcia.com
SUMMARY:Mesa Redonda "RESISTENCIAS BACTERIANAS\, UNA PANDEMIA INVISIBLE"
DESCRIPTION:Mesa Redonda RESISTENCIAS BACTERIANAS\, UNA PANDEMIA INVISIBLE\nCICLO DE ACTUALIZACIÓN EN FARMACOLOGÍA \n“INNOVACIÓN TERAPÉUTICA\, MEDICAMENTOS QUE MEJORAN LA VIDA”\n  \nModeradora: Ilma. Sra. Dña. Josefa León Villar\, Jefa del Servicio de Farmacia del Hospital Morales Meseguer y Académica de Número de la Academia de Farmacia Sta. María de España de la Región de Murcia \nPonentes: \nIlma. Sra. Dña. María Dolores Nájera Pérez\, Jefa de Sección del Servicio de Farmacia del Hospital Morales Meseguer. Académica de Número de la ” Academia de Farmacia Sta. María de España de la Región de Murcia \n“Nuevos antimicrobianos para infecciones complicadas” \nDra. Dña. Ana Rendón Villarroya\, Jefa de Servicio de la Unidad de Cuidados Intensivos del HMM \n“Más allá del espectro: uso de nuevos antibióticos en infecciones críticas complejas” \n\nDía:21 de abril\nHora: 19 h.\nLugar: Salón de Actos de la Real Academia de Medicina y Cirugía de la Región de Murcia\, Plaza Preciosa\, s/n\, 30008\, Murcia
URL:https://academiadefarmaciaregiondemurcia.com/eventos/mesa-redonda-resistencias-bacterianas-una-pandemia-invisible/
ATTACH;FMTTYPE=image/jpeg:https://academiadefarmaciaregiondemurcia.com/wp-content/uploads/2025/12/ACAFARMUR_IEp.jpg
END:VEVENT
END:VCALENDAR